Name | Last modified | Size | Description | |
---|---|---|---|---|
Parent Directory | - | |||
install-out.txt | 12-Jun-2024 04:41 | 9.1K | ||
install-summary.dcf | 12-Jun-2024 04:41 | 270 | ||
buildsrc-out.txt | 12-Jun-2024 04:41 | 846 | ||
buildsrc-summary.dcf | 12-Jun-2024 04:41 | 428 | ||
checksrc-out.txt | 12-Jun-2024 04:41 | 4.8K | ||
checksrc-summary.dcf | 12-Jun-2024 04:41 | 444 | ||
buildbin-summary.dcf | 12-Jun-2024 04:41 | 531 | ||
buildbin-out.txt | 12-Jun-2024 04:41 | 12K | ||