Name | Last modified | Size | Description | |
---|---|---|---|---|
Parent Directory | - | |||
buildbin-out.txt | 21-Jun-2024 01:14 | 12K | ||
buildbin-summary.dcf | 21-Jun-2024 01:14 | 530 | ||
buildsrc-out.txt | 21-Jun-2024 01:14 | 846 | ||
buildsrc-summary.dcf | 21-Jun-2024 01:14 | 428 | ||
checksrc-out.txt | 21-Jun-2024 01:14 | 4.8K | ||
checksrc-summary.dcf | 21-Jun-2024 01:14 | 444 | ||
install-out.txt | 21-Jun-2024 01:14 | 9.1K | ||
install-summary.dcf | 21-Jun-2024 01:14 | 270 | ||