Name | Last modified | Size | Description | |
---|---|---|---|---|
Parent Directory | - | |||
install-out.txt | 20-Jun-2024 01:11 | 9.0K | ||
install-summary.dcf | 20-Jun-2024 01:11 | 269 | ||
buildsrc-out.txt | 20-Jun-2024 01:11 | 846 | ||
buildsrc-summary.dcf | 20-Jun-2024 01:11 | 427 | ||
checksrc-out.txt | 20-Jun-2024 01:11 | 4.6K | ||
checksrc-summary.dcf | 20-Jun-2024 01:11 | 444 | ||
buildbin-out.txt | 20-Jun-2024 01:11 | 12K | ||
buildbin-summary.dcf | 20-Jun-2024 01:11 | 530 | ||