Name | Last modified | Size | Description | |
---|---|---|---|---|
Parent Directory | - | |||
buildsrc-out.txt | 12-Jun-2024 04:42 | 26K | ||
checksrc-out.txt | 31-May-2024 01:37 | 6.5K | ||
buildbin-out.txt | 31-May-2024 01:37 | 1.2K | ||
install-out.txt | 12-Jun-2024 04:42 | 1.0K | ||
buildbin-summary.dcf | 31-May-2024 01:37 | 541 | ||
checksrc-summary.dcf | 31-May-2024 01:37 | 456 | ||
buildsrc-summary.dcf | 12-Jun-2024 04:42 | 348 | ||
install-summary.dcf | 12-Jun-2024 04:42 | 272 | ||