Name | Last modified | Size | Description | |
---|---|---|---|---|
Parent Directory | - | |||
checksrc-summary.dcf | 09-Jul-2024 00:44 | 320 | ||
checksrc-out.txt | 09-Jul-2024 00:44 | 4.3K | ||
buildsrc-out.txt | 09-Jul-2024 00:44 | 823 | ||
buildsrc-summary.dcf | 09-Jul-2024 00:44 | 403 | ||
install-summary.dcf | 06-Jul-2024 00:44 | 248 | ||
install-out.txt | 06-Jul-2024 00:44 | 610 | ||