Index of /checkResults/devel/bioc-LATEST/decompTumor2Sig/raw-results/lconway
Name
Last modified
Size
Description
Parent Directory
-
buildsrc-out.txt
27-Jun-2024 00:38
1.6K
buildsrc-summary.dcf
27-Jun-2024 00:38
359
install-out.txt
27-Jun-2024 00:38
1.4K
install-summary.dcf
27-Jun-2024 00:38
288