Index of /checkResults/devel/bioc-LATEST/decompTumor2Sig/raw-results/kjohnson3
Name
Last modified
Size
Description
Parent Directory
-
buildsrc-out.txt
27-Jun-2024 00:39
1.8K
buildsrc-summary.dcf
27-Jun-2024 00:39
358
install-out.txt
27-Jun-2024 00:39
1.5K
install-summary.dcf
27-Jun-2024 00:39
287