Index of /checkResults/devel/bioc-LATEST/decompTumor2Sig/raw-results/kjohnson1
Name
Last modified
Size
Description
Parent Directory
-
buildsrc-out.txt
12-Jun-2024 04:42
677
buildsrc-summary.dcf
12-Jun-2024 04:42
366
install-out.txt
12-Jun-2024 04:42
1.0K
install-summary.dcf
12-Jun-2024 04:42
285