Name | Last modified | Size | Description | |
---|---|---|---|---|
Parent Directory | - | |||
kjohnson1/ | 12-Jun-2024 04:42 | - | ||
kjohnson3/ | 20-Jun-2024 01:11 | - | ||
kunpeng2/ | 16-May-2024 02:46 | - | ||
lconway/ | 21-Jun-2024 01:14 | - | ||
merida1/ | 12-Jun-2024 04:41 | - | ||
nebbiolo2/ | 21-Jun-2024 01:14 | - | ||
palomino4/ | 12-Jun-2024 04:40 | - | ||
info.dcf | 21-Jun-2024 01:13 | 279 | ||