Name | Last modified | Size | Description | |
---|---|---|---|---|
Parent Directory | - | |||
checksrc-out.txt | 05-Jul-2024 00:44 | 3.9K | ||
checksrc-summary.dcf | 05-Jul-2024 00:44 | 403 | ||
install-out.txt | 06-Jul-2024 00:44 | 614 | ||
install-summary.dcf | 06-Jul-2024 00:44 | 248 | ||
buildsrc-summary.dcf | 06-Jul-2024 00:44 | 319 | ||
buildsrc-out.txt | 06-Jul-2024 00:44 | 880 | ||