Name | Last modified | Size | Description | |
---|---|---|---|---|
Parent Directory | - | |||
install-summary.dcf | 29-Jun-2024 00:37 | 255 | ||
install-out.txt | 29-Jun-2024 00:37 | 4.6K | ||
checksrc-summary.dcf | 29-Jun-2024 00:37 | 406 | ||
checksrc-out.txt | 29-Jun-2024 00:37 | 3.4K | ||
buildsrc-summary.dcf | 29-Jun-2024 00:37 | 415 | ||
buildsrc-out.txt | 29-Jun-2024 00:37 | 852 | ||