Name | Last modified | Size | Description | |
---|---|---|---|---|
Parent Directory | - | |||
checksrc-out.txt | 05-Jul-2024 00:44 | 15K | ||
buildsrc-out.txt | 06-Jul-2024 00:44 | 937 | ||
install-out.txt | 06-Jul-2024 00:44 | 655 | ||
checksrc-summary.dcf | 05-Jul-2024 00:44 | 437 | ||
buildsrc-summary.dcf | 06-Jul-2024 00:44 | 336 | ||
install-summary.dcf | 06-Jul-2024 00:44 | 265 | ||