Name | Last modified | Size | Description | |
---|---|---|---|---|
Parent Directory | - | |||
buildsrc-out.txt | 06-Jul-2024 00:38 | 845 | ||
buildsrc-summary.dcf | 06-Jul-2024 00:38 | 433 | ||
checksrc-out.txt | 06-Jul-2024 00:38 | 3.3K | ||
checksrc-summary.dcf | 06-Jul-2024 00:38 | 428 | ||
install-out.txt | 06-Jul-2024 00:38 | 956 | ||
install-summary.dcf | 06-Jul-2024 00:38 | 265 | ||