Name | Last modified | Size | Description | |
---|---|---|---|---|
Parent Directory | - | |||
install-out.txt | 17-Jul-2024 00:41 | 1.0K | ||
install-summary.dcf | 17-Jul-2024 00:41 | 277 | ||
buildsrc-out.txt | 17-Jul-2024 00:41 | 832 | ||
buildsrc-summary.dcf | 17-Jul-2024 00:41 | 437 | ||
checksrc-out.txt | 17-Jul-2024 00:41 | 3.4K | ||
checksrc-summary.dcf | 17-Jul-2024 00:41 | 460 | ||
buildbin-summary.dcf | 17-Jul-2024 00:41 | 554 | ||
buildbin-out.txt | 17-Jul-2024 00:41 | 1.2K | ||