Name | Last modified | Size | Description | |
---|---|---|---|---|
Parent Directory | - | |||
buildbin-out.txt | 22-Jun-2024 02:22 | 1.5K | ||
buildbin-summary.dcf | 22-Jun-2024 02:22 | 548 | ||
buildsrc-out.txt | 22-Jun-2024 02:22 | 891 | ||
buildsrc-summary.dcf | 22-Jun-2024 02:22 | 436 | ||
checksrc-out.txt | 22-Jun-2024 02:22 | 4.1K | ||
checksrc-summary.dcf | 22-Jun-2024 02:22 | 462 | ||
install-out.txt | 22-Jun-2024 02:22 | 1.3K | ||
install-summary.dcf | 22-Jun-2024 02:22 | 275 | ||