Name | Last modified | Size | Description | |
---|---|---|---|---|
Parent Directory | - | |||
buildbin-out.txt | 05-Jun-2024 03:36 | 1.5K | ||
buildbin-summary.dcf | 05-Jun-2024 03:36 | 547 | ||
buildsrc-out.txt | 12-Jun-2024 04:42 | 638 | ||
buildsrc-summary.dcf | 12-Jun-2024 04:42 | 356 | ||
checksrc-out.txt | 05-Jun-2024 03:36 | 4.4K | ||
checksrc-summary.dcf | 05-Jun-2024 03:36 | 462 | ||
install-out.txt | 12-Jun-2024 04:42 | 1.3K | ||
install-summary.dcf | 12-Jun-2024 04:42 | 275 | ||