Name | Last modified | Size | Description | |
---|---|---|---|---|
Parent Directory | - | |||
install-summary.dcf | 17-Jul-2024 00:41 | 273 | ||
buildsrc-summary.dcf | 17-Jul-2024 00:41 | 434 | ||
checksrc-summary.dcf | 17-Jul-2024 00:41 | 452 | ||
buildbin-summary.dcf | 17-Jul-2024 00:41 | 542 | ||
buildsrc-out.txt | 17-Jul-2024 00:41 | 887 | ||
install-out.txt | 17-Jul-2024 00:41 | 1.0K | ||
buildbin-out.txt | 17-Jul-2024 00:41 | 1.2K | ||
checksrc-out.txt | 17-Jul-2024 00:41 | 3.5K | ||