Name | Last modified | Size | Description | |
---|---|---|---|---|
Parent Directory | - | |||
buildsrc-out.txt | 12-Jul-2024 00:59 | 830 | ||
buildsrc-summary.dcf | 12-Jul-2024 00:59 | 424 | ||
checksrc-out.txt | 12-Jul-2024 00:59 | 3.3K | ||
checksrc-summary.dcf | 12-Jul-2024 00:59 | 414 | ||
install-out.txt | 12-Jul-2024 00:59 | 952 | ||
install-summary.dcf | 12-Jul-2024 00:59 | 259 | ||