Name | Last modified | Size | Description | |
---|---|---|---|---|
Parent Directory | - | |||
install-out.txt | 06-Jul-2024 00:39 | 1.0K | ||
install-summary.dcf | 06-Jul-2024 00:39 | 276 | ||
buildsrc-out.txt | 06-Jul-2024 00:39 | 850 | ||
buildsrc-summary.dcf | 06-Jul-2024 00:39 | 462 | ||
checksrc-out.txt | 06-Jul-2024 00:39 | 7.5K | ||
checksrc-summary.dcf | 06-Jul-2024 00:39 | 468 | ||
buildbin-out.txt | 06-Jul-2024 00:39 | 1.1K | ||
buildbin-summary.dcf | 06-Jul-2024 00:39 | 525 | ||