Name | Last modified | Size | Description | |
---|---|---|---|---|
Parent Directory | - | |||
checksrc-out.txt | 29-Jun-2024 00:37 | 8.5K | ||
install-out.txt | 29-Jun-2024 00:37 | 5.6K | ||
buildsrc-out.txt | 29-Jun-2024 00:37 | 844 | ||
buildsrc-summary.dcf | 29-Jun-2024 00:37 | 411 | ||
checksrc-summary.dcf | 29-Jun-2024 00:37 | 398 | ||
install-summary.dcf | 29-Jun-2024 00:37 | 251 | ||