Name | Last modified | Size | Description | |
---|---|---|---|---|
Parent Directory | - | |||
install-summary.dcf | 12-Jun-2024 04:41 | 261 | ||
buildsrc-summary.dcf | 12-Jun-2024 04:41 | 415 | ||
checksrc-summary.dcf | 12-Jun-2024 04:41 | 434 | ||
buildbin-summary.dcf | 12-Jun-2024 04:41 | 506 | ||
buildsrc-out.txt | 12-Jun-2024 04:41 | 830 | ||
install-out.txt | 12-Jun-2024 04:41 | 5.4K | ||
buildbin-out.txt | 12-Jun-2024 04:41 | 7.4K | ||
checksrc-out.txt | 12-Jun-2024 04:41 | 8.9K | ||