Name | Last modified | Size | Description | |
---|---|---|---|---|
Parent Directory | - | |||
checksrc-out.txt | 29-Jun-2024 00:39 | 8.9K | ||
buildbin-out.txt | 29-Jun-2024 00:39 | 7.4K | ||
install-out.txt | 29-Jun-2024 00:39 | 5.4K | ||
buildsrc-out.txt | 29-Jun-2024 00:39 | 830 | ||
buildbin-summary.dcf | 29-Jun-2024 00:39 | 504 | ||
checksrc-summary.dcf | 29-Jun-2024 00:39 | 434 | ||
buildsrc-summary.dcf | 29-Jun-2024 00:39 | 415 | ||
install-summary.dcf | 29-Jun-2024 00:39 | 261 | ||