Name | Last modified | Size | Description | |
---|---|---|---|---|
Parent Directory | - | |||
checksrc-out.txt | 16-May-2024 02:46 | 39K | ||
checksrc-summary.dcf | 16-May-2024 02:46 | 467 | ||
install-out.txt | 06-Jul-2024 00:44 | 637 | ||
install-summary.dcf | 06-Jul-2024 00:44 | 255 | ||
buildsrc-out.txt | 06-Jul-2024 00:44 | 908 | ||
buildsrc-summary.dcf | 06-Jul-2024 00:44 | 326 | ||