Name | Last modified | Size | Description | |
---|---|---|---|---|
Parent Directory | - | |||
install-summary.dcf | 06-Jul-2024 00:42 | 275 | ||
install-out.txt | 06-Jul-2024 00:42 | 1.4K | ||
checksrc-summary.dcf | 06-Jul-2024 00:42 | 456 | ||
checksrc-out.txt | 06-Jul-2024 00:42 | 9.0K | ||
buildsrc-summary.dcf | 06-Jul-2024 00:42 | 437 | ||
buildsrc-out.txt | 06-Jul-2024 00:42 | 828 | ||
buildbin-summary.dcf | 06-Jul-2024 00:42 | 548 | ||
buildbin-out.txt | 06-Jul-2024 00:42 | 1.6K | ||