Name | Last modified | Size | Description | |
---|---|---|---|---|
Parent Directory | - | |||
buildbin-out.txt | 12-Jun-2024 04:41 | 5.2K | ||
buildbin-summary.dcf | 12-Jun-2024 04:41 | 543 | ||
buildsrc-out.txt | 12-Jun-2024 04:41 | 854 | ||
buildsrc-summary.dcf | 12-Jun-2024 04:41 | 434 | ||
checksrc-out.txt | 12-Jun-2024 04:41 | 3.8K | ||
checksrc-summary.dcf | 12-Jun-2024 04:41 | 453 | ||
install-out.txt | 12-Jun-2024 04:41 | 3.1K | ||
install-summary.dcf | 12-Jun-2024 04:41 | 274 | ||