Name | Last modified | Size | Description | |
---|---|---|---|---|
Parent Directory | - | |||
install-summary.dcf | 06-Jul-2024 00:39 | 280 | ||
buildsrc-summary.dcf | 06-Jul-2024 00:39 | 470 | ||
checksrc-summary.dcf | 06-Jul-2024 00:39 | 471 | ||
buildbin-summary.dcf | 06-Jul-2024 00:39 | 539 | ||
buildsrc-out.txt | 06-Jul-2024 00:39 | 897 | ||
install-out.txt | 06-Jul-2024 00:39 | 1.0K | ||
buildbin-out.txt | 06-Jul-2024 00:39 | 1.1K | ||
checksrc-out.txt | 06-Jul-2024 00:39 | 4.6K | ||