Name | Last modified | Size | Description | |
---|---|---|---|---|
Parent Directory | - | |||
install-out.txt | 06-Jul-2024 00:39 | 1.2K | ||
install-summary.dcf | 06-Jul-2024 00:39 | 280 | ||
buildsrc-out.txt | 06-Jul-2024 00:39 | 920 | ||
buildsrc-summary.dcf | 06-Jul-2024 00:39 | 470 | ||
checksrc-out.txt | 06-Jul-2024 00:39 | 4.3K | ||
checksrc-summary.dcf | 06-Jul-2024 00:39 | 471 | ||
buildbin-out.txt | 06-Jul-2024 00:39 | 1.4K | ||
buildbin-summary.dcf | 06-Jul-2024 00:39 | 539 | ||