Name | Last modified | Size | Description | |
---|---|---|---|---|
Parent Directory | - | |||
install-summary.dcf | 06-Jul-2024 00:39 | 282 | ||
install-out.txt | 06-Jul-2024 00:39 | 961 | ||
checksrc-summary.dcf | 06-Jul-2024 00:39 | 474 | ||
checksrc-out.txt | 06-Jul-2024 00:39 | 4.3K | ||
buildsrc-summary.dcf | 06-Jul-2024 00:39 | 473 | ||
buildsrc-out.txt | 06-Jul-2024 00:39 | 791 | ||
buildbin-summary.dcf | 06-Jul-2024 00:39 | 543 | ||
buildbin-out.txt | 06-Jul-2024 00:39 | 1.1K | ||