Name | Last modified | Size | Description | |
---|---|---|---|---|
Parent Directory | - | |||
buildbin-summary.dcf | 17-Jul-2024 00:39 | 533 | ||
buildbin-out.txt | 17-Jul-2024 00:39 | 3.0K | ||
checksrc-out.txt | 17-Jul-2024 00:39 | 4.5K | ||
checksrc-summary.dcf | 17-Jul-2024 00:39 | 467 | ||
buildsrc-summary.dcf | 17-Jul-2024 00:39 | 467 | ||
buildsrc-out.txt | 17-Jul-2024 00:39 | 925 | ||
install-out.txt | 17-Jul-2024 00:39 | 2.9K | ||
install-summary.dcf | 17-Jul-2024 00:39 | 278 | ||