Name | Last modified | Size | Description | |
---|---|---|---|---|
Parent Directory | - | |||
buildsrc-out.txt | 25-Jun-2024 00:37 | 893 | ||
buildsrc-summary.dcf | 25-Jun-2024 00:37 | 421 | ||
checksrc-out.txt | 25-Jun-2024 00:37 | 6.9K | ||
checksrc-summary.dcf | 25-Jun-2024 00:37 | 420 | ||
install-out.txt | 25-Jun-2024 00:37 | 952 | ||
install-summary.dcf | 25-Jun-2024 00:37 | 259 | ||