Name | Last modified | Size | Description | |
---|---|---|---|---|
Parent Directory | - | |||
buildbin-out.txt | 17-Jul-2024 00:39 | 2.1K | ||
buildbin-summary.dcf | 17-Jul-2024 00:39 | 572 | ||
buildsrc-out.txt | 17-Jul-2024 00:39 | 921 | ||
buildsrc-summary.dcf | 17-Jul-2024 00:39 | 492 | ||
checksrc-out.txt | 17-Jul-2024 00:39 | 5.8K | ||
checksrc-summary.dcf | 17-Jul-2024 00:39 | 497 | ||
install-out.txt | 17-Jul-2024 00:39 | 2.0K | ||
install-summary.dcf | 17-Jul-2024 00:39 | 291 | ||