Name | Last modified | Size | Description | |
---|---|---|---|---|
Parent Directory | - | |||
install-out.txt | 12-Jul-2024 00:59 | 13K | ||
install-summary.dcf | 12-Jul-2024 00:59 | 259 | ||
buildsrc-out.txt | 12-Jul-2024 00:59 | 860 | ||
buildsrc-summary.dcf | 12-Jul-2024 00:59 | 424 | ||
checksrc-out.txt | 12-Jul-2024 00:59 | 4.2K | ||
checksrc-summary.dcf | 12-Jul-2024 00:59 | 420 | ||