Name | Last modified | Size | Description | |
---|---|---|---|---|
Parent Directory | - | |||
install-out.txt | 29-Jun-2024 00:37 | 2.7K | ||
install-summary.dcf | 29-Jun-2024 00:37 | 252 | ||
buildsrc-out.txt | 29-Jun-2024 00:37 | 959 | ||
buildsrc-summary.dcf | 29-Jun-2024 00:37 | 414 | ||
checksrc-out.txt | 29-Jun-2024 00:37 | 5.8K | ||
checksrc-summary.dcf | 29-Jun-2024 00:37 | 408 | ||