Name | Last modified | Size | Description | |
---|---|---|---|---|
Parent Directory | - | |||
buildbin-out.txt | 06-Jul-2024 00:39 | 1.7K | ||
buildbin-summary.dcf | 06-Jul-2024 00:39 | 521 | ||
buildsrc-out.txt | 06-Jul-2024 00:39 | 937 | ||
buildsrc-summary.dcf | 06-Jul-2024 00:39 | 457 | ||
checksrc-out.txt | 06-Jul-2024 00:39 | 4.5K | ||
checksrc-summary.dcf | 06-Jul-2024 00:39 | 459 | ||
install-out.txt | 06-Jul-2024 00:39 | 1.5K | ||
install-summary.dcf | 06-Jul-2024 00:39 | 274 | ||