Index of /checkResults/devel/bioc-LATEST/YAPSA/raw-results/kunpeng2
Name
Last modified
Size
Description
Parent Directory
-
buildsrc-out.txt
16-May-2024 02:46
872
buildsrc-summary.dcf
16-May-2024 02:46
423
install-out.txt
16-May-2024 02:46
3.7K
install-summary.dcf
16-May-2024 02:46
266