Name | Last modified | Size | Description | |
---|---|---|---|---|
Parent Directory | - | |||
install-out.txt | 12-Jul-2024 01:01 | 1.0K | ||
install-summary.dcf | 12-Jul-2024 01:01 | 263 | ||
buildsrc-out.txt | 12-Jul-2024 01:01 | 961 | ||
buildsrc-summary.dcf | 12-Jul-2024 01:01 | 418 | ||
checksrc-out.txt | 12-Jul-2024 01:01 | 3.7K | ||
checksrc-summary.dcf | 12-Jul-2024 01:01 | 432 | ||
buildbin-out.txt | 12-Jul-2024 01:01 | 1.1K | ||
buildbin-summary.dcf | 12-Jul-2024 01:01 | 511 | ||