Name | Last modified | Size | Description | |
---|---|---|---|---|
Parent Directory | - | |||
install-summary.dcf | 06-Jul-2024 00:45 | 243 | ||
buildsrc-summary.dcf | 09-Jul-2024 00:45 | 314 | ||
checksrc-summary.dcf | 05-Jul-2024 00:45 | 393 | ||
install-out.txt | 06-Jul-2024 00:45 | 605 | ||
buildsrc-out.txt | 09-Jul-2024 00:45 | 865 | ||
checksrc-out.txt | 05-Jul-2024 00:45 | 3.7K | ||