Name | Last modified | Size | Description | |
---|---|---|---|---|
Parent Directory | - | |||
buildbin-out.txt | 12-Jun-2024 04:41 | 1.1K | ||
buildbin-summary.dcf | 12-Jun-2024 04:41 | 509 | ||
buildsrc-out.txt | 12-Jun-2024 04:41 | 871 | ||
buildsrc-summary.dcf | 12-Jun-2024 04:41 | 446 | ||
checksrc-out.txt | 12-Jun-2024 04:41 | 3.1K | ||
checksrc-summary.dcf | 12-Jun-2024 04:41 | 443 | ||
install-out.txt | 12-Jun-2024 04:41 | 950 | ||
install-summary.dcf | 12-Jun-2024 04:41 | 266 | ||