Name | Last modified | Size | Description | |
---|---|---|---|---|
Parent Directory | - | |||
install-out.txt | 29-Jun-2024 00:38 | 955 | ||
install-summary.dcf | 29-Jun-2024 00:38 | 260 | ||
buildsrc-out.txt | 29-Jun-2024 00:38 | 833 | ||
buildsrc-summary.dcf | 29-Jun-2024 00:38 | 422 | ||
checksrc-out.txt | 29-Jun-2024 00:38 | 3.1K | ||
checksrc-summary.dcf | 29-Jun-2024 00:38 | 416 | ||