Index of /checkResults/devel/bioc-LATEST/VisiumIO/raw-results/kunpeng2
Name
Last modified
Size
Description
Parent Directory
-
install-out.txt
16-May-2024 02:46
1.0K
install-summary.dcf
16-May-2024 02:46
271
buildsrc-out.txt
16-May-2024 02:46
820
buildsrc-summary.dcf
16-May-2024 02:46
429