Name | Last modified | Size | Description | |
---|---|---|---|---|
Parent Directory | - | |||
checksrc-out.txt | 09-Jul-2024 00:45 | 8.0K | ||
checksrc-summary.dcf | 09-Jul-2024 00:45 | 328 | ||
buildsrc-summary.dcf | 09-Jul-2024 00:45 | 405 | ||
buildsrc-out.txt | 09-Jul-2024 00:45 | 857 | ||
install-summary.dcf | 06-Jul-2024 00:45 | 249 | ||
install-out.txt | 06-Jul-2024 00:45 | 651 | ||