Name | Last modified | Size | Description | |
---|---|---|---|---|
Parent Directory | - | |||
install-summary.dcf | 17-Jul-2024 00:44 | 269 | ||
install-out.txt | 17-Jul-2024 00:44 | 1.3K | ||
checksrc-summary.dcf | 17-Jul-2024 00:44 | 449 | ||
checksrc-out.txt | 17-Jul-2024 00:44 | 8.0K | ||
buildsrc-summary.dcf | 17-Jul-2024 00:44 | 427 | ||
buildsrc-out.txt | 17-Jul-2024 00:44 | 879 | ||
buildbin-summary.dcf | 17-Jul-2024 00:44 | 529 | ||
buildbin-out.txt | 17-Jul-2024 00:44 | 1.5K | ||