Index of /checkResults/devel/bioc-LATEST/VAExprs/raw-results/kjohnson3
Name
Last modified
Size
Description
Parent Directory
-
buildsrc-summary.dcf
06-Jul-2024 00:44
343
buildsrc-out.txt
06-Jul-2024 00:44
2.2K
install-out.txt
06-Jul-2024 00:44
1.0K
install-summary.dcf
06-Jul-2024 00:44
269