Name | Last modified | Size | Description | |
---|---|---|---|---|
Parent Directory | - | |||
checksrc-out.txt | 23-May-2024 00:37 | 3.2K | ||
checksrc-summary.dcf | 23-May-2024 00:37 | 443 | ||
buildbin-summary.dcf | 23-May-2024 00:37 | 509 | ||
buildbin-out.txt | 23-May-2024 00:37 | 1.1K | ||
install-out.txt | 12-Jun-2024 04:41 | 1.0K | ||
install-summary.dcf | 12-Jun-2024 04:41 | 266 | ||
buildsrc-out.txt | 12-Jun-2024 04:41 | 12K | ||
buildsrc-summary.dcf | 12-Jun-2024 04:41 | 366 | ||