Name | Last modified | Size | Description | |
---|---|---|---|---|
Parent Directory | - | |||
install-summary.dcf | 13-Jul-2024 01:33 | 267 | ||
install-out.txt | 13-Jul-2024 01:33 | 1.0K | ||
checksrc-summary.dcf | 13-Jul-2024 01:33 | 440 | ||
checksrc-out.txt | 13-Jul-2024 01:33 | 3.3K | ||
buildsrc-summary.dcf | 13-Jul-2024 01:33 | 424 | ||
buildsrc-out.txt | 13-Jul-2024 01:33 | 812 | ||
buildbin-summary.dcf | 13-Jul-2024 01:33 | 524 | ||
buildbin-out.txt | 13-Jul-2024 01:33 | 1.2K | ||