Name | Last modified | Size | Description | |
---|---|---|---|---|
Parent Directory | - | |||
install-summary.dcf | 06-Jul-2024 00:44 | 277 | ||
install-out.txt | 06-Jul-2024 00:44 | 3.9K | ||
buildsrc-out.txt | 06-Jul-2024 00:44 | 928 | ||
buildsrc-summary.dcf | 06-Jul-2024 00:44 | 440 | ||
checksrc-out.txt | 06-Jul-2024 00:44 | 3.9K | ||
checksrc-summary.dcf | 06-Jul-2024 00:44 | 461 | ||
buildbin-out.txt | 06-Jul-2024 00:44 | 5.9K | ||
buildbin-summary.dcf | 06-Jul-2024 00:44 | 556 | ||