Name | Last modified | Size | Description | |
---|---|---|---|---|
Parent Directory | - | |||
install-summary.dcf | 06-Jul-2024 00:39 | 251 | ||
install-out.txt | 06-Jul-2024 00:39 | 948 | ||
checksrc-summary.dcf | 06-Jul-2024 00:39 | 398 | ||
checksrc-out.txt | 06-Jul-2024 00:39 | 6.9K | ||
buildsrc-summary.dcf | 06-Jul-2024 00:39 | 411 | ||
buildsrc-out.txt | 06-Jul-2024 00:39 | 877 | ||