Index of /checkResults/devel/bioc-LATEST/SynExtend/raw-results/kunpeng2
Name
Last modified
Size
Description
Parent Directory
-
buildsrc-out.txt
16-May-2024 02:46
918
buildsrc-summary.dcf
16-May-2024 02:46
434
install-out.txt
16-May-2024 02:46
3.9K
install-summary.dcf
16-May-2024 02:46
274