Index of /checkResults/devel/bioc-LATEST/Spectra/raw-results/kunpeng2
Name
Last modified
Size
Description
Parent Directory
-
buildsrc-out.txt
16-May-2024 02:46
1.0K
buildsrc-summary.dcf
16-May-2024 02:46
428
install-out.txt
16-May-2024 02:46
1.1K
install-summary.dcf
16-May-2024 02:46
270