Name | Last modified | Size | Description | |
---|---|---|---|---|
Parent Directory | - | |||
buildsrc-out.txt | 21-Jun-2024 01:14 | 1.2K | ||
buildsrc-summary.dcf | 21-Jun-2024 01:14 | 372 | ||
checksrc-out.txt | 18-Jun-2024 01:23 | 5.6K | ||
checksrc-summary.dcf | 18-Jun-2024 01:23 | 481 | ||
install-out.txt | 21-Jun-2024 01:14 | 1.5K | ||
install-summary.dcf | 21-Jun-2024 01:14 | 292 | ||